BEGIN:VCALENDAR
VERSION:2.0
PRODID:-//Center for Southern Jewish Culture - ECPv6.15.20//NONSGML v1.0//EN
CALSCALE:GREGORIAN
METHOD:PUBLISH
X-WR-CALNAME:Center for Southern Jewish Culture
X-ORIGINAL-URL:https://jewish-south.charleston.edu
X-WR-CALDESC:Events for Center for Southern Jewish Culture
REFRESH-INTERVAL;VALUE=DURATION:PT1H
X-Robots-Tag:noindex
X-PUBLISHED-TTL:PT1H
BEGIN:VTIMEZONE
TZID:America/New_York
BEGIN:DAYLIGHT
TZOFFSETFROM:-0500
TZOFFSETTO:-0400
TZNAME:EDT
DTSTART:20240310T070000
END:DAYLIGHT
BEGIN:STANDARD
TZOFFSETFROM:-0400
TZOFFSETTO:-0500
TZNAME:EST
DTSTART:20241103T060000
END:STANDARD
BEGIN:DAYLIGHT
TZOFFSETFROM:-0500
TZOFFSETTO:-0400
TZNAME:EDT
DTSTART:20250309T070000
END:DAYLIGHT
BEGIN:STANDARD
TZOFFSETFROM:-0400
TZOFFSETTO:-0500
TZNAME:EST
DTSTART:20251102T060000
END:STANDARD
BEGIN:DAYLIGHT
TZOFFSETFROM:-0500
TZOFFSETTO:-0400
TZNAME:EDT
DTSTART:20260308T070000
END:DAYLIGHT
BEGIN:STANDARD
TZOFFSETFROM:-0400
TZOFFSETTO:-0500
TZNAME:EST
DTSTART:20261101T060000
END:STANDARD
END:VTIMEZONE
BEGIN:VEVENT
DTSTART;TZID=America/New_York:20251116T090000
DTEND;TZID=America/New_York:20251116T120000
DTSTAMP:20260423T082955
CREATED:20250917T142732Z
LAST-MODIFIED:20250919T152014Z
UID:1997-1763283600-1763294400@jewish-south.charleston.edu
SUMMARY:Oy Vey\, King George! American Jews and the Revolution
DESCRIPTION:Adam Jortner\, the Goodwin-Philpott Eminent Professor of Religion in Auburn University’s Department of History\, specializes in the history of religion during the American Revolution and early republic\, with particular focus on religious liberty\, patriotism\, theology\, and new traditions. Since joining Auburn in 2009\, he has published The Gods of Prophetstown—winner of the 2013 James Broussard Prize—and Blood from the Sky\, and is a frequent contributor to NPR’s Backstory. His forthcoming Audible lecture series\, God and the Founding Fathers\, continues his exploration of religion’s central role in America’s founding.
URL:https://jewish-south.charleston.edu/event/oy-vey-king-george-american-jews-and-the-revolution/
LOCATION:Arnold Hall\, 96 Wentworth Street\, Charleston\, SC\, 29424\, United States
CATEGORIES:Future Events
ATTACH;FMTTYPE=image/jpeg:https://jewish-south.charleston.edu/wp-content/uploads/2025/09/A-Promised-Land-book-cover.jpg
END:VEVENT
END:VCALENDAR