BEGIN:VCALENDAR
VERSION:2.0
PRODID:-//Center for Southern Jewish Culture - ECPv6.15.20//NONSGML v1.0//EN
CALSCALE:GREGORIAN
METHOD:PUBLISH
X-ORIGINAL-URL:https://jewish-south.charleston.edu
X-WR-CALDESC:Events for Center for Southern Jewish Culture
REFRESH-INTERVAL;VALUE=DURATION:PT1H
X-Robots-Tag:noindex
X-PUBLISHED-TTL:PT1H
BEGIN:VTIMEZONE
TZID:America/New_York
BEGIN:DAYLIGHT
TZOFFSETFROM:-0500
TZOFFSETTO:-0400
TZNAME:EDT
DTSTART:20240310T070000
END:DAYLIGHT
BEGIN:STANDARD
TZOFFSETFROM:-0400
TZOFFSETTO:-0500
TZNAME:EST
DTSTART:20241103T060000
END:STANDARD
BEGIN:DAYLIGHT
TZOFFSETFROM:-0500
TZOFFSETTO:-0400
TZNAME:EDT
DTSTART:20250309T070000
END:DAYLIGHT
BEGIN:STANDARD
TZOFFSETFROM:-0400
TZOFFSETTO:-0500
TZNAME:EST
DTSTART:20251102T060000
END:STANDARD
BEGIN:DAYLIGHT
TZOFFSETFROM:-0500
TZOFFSETTO:-0400
TZNAME:EDT
DTSTART:20260308T070000
END:DAYLIGHT
BEGIN:STANDARD
TZOFFSETFROM:-0400
TZOFFSETTO:-0500
TZNAME:EST
DTSTART:20261101T060000
END:STANDARD
END:VTIMEZONE
BEGIN:VEVENT
DTSTART;TZID=America/New_York:20251026T090000
DTEND;TZID=America/New_York:20251026T120000
DTSTAMP:20260423T103023
CREATED:20250917T142158Z
LAST-MODIFIED:20250917T142158Z
UID:1995-1761469200-1761480000@jewish-south.charleston.edu
SUMMARY:North African Jews in Christian South Carolina: Slavery\, Diplomacy\, and Religion Across the Atlantic
DESCRIPTION:Dr. Max Modiano Daniel is the public historian and Jewish Heritage Collection coordinator at Special Collections in the Addlestone Library. He also teaches in Jewish Studies. His areas of research include Sephardi/Mizrahi Jews\, American Jewish history\, race and ethnicity\, and Jewish languages. \nSponsored by the Yaschik/Arnold Jewish Studies Program
URL:https://jewish-south.charleston.edu/event/north-african-jews-in-christian-south-carolina-slavery-diplomacy-and-religion-across-the-atlantic/
LOCATION:Arnold Hall\, 96 Wentworth Street\, Charleston\, SC\, 29424\, United States
CATEGORIES:Future Events
ATTACH;FMTTYPE=image/png:https://jewish-south.charleston.edu/wp-content/uploads/2025/09/max-daniel-headshot.png
END:VEVENT
END:VCALENDAR