BEGIN:VCALENDAR
VERSION:2.0
PRODID:-//Center for Southern Jewish Culture - ECPv6.15.20//NONSGML v1.0//EN
CALSCALE:GREGORIAN
METHOD:PUBLISH
X-ORIGINAL-URL:https://jewish-south.charleston.edu
X-WR-CALDESC:Events for Center for Southern Jewish Culture
REFRESH-INTERVAL;VALUE=DURATION:PT1H
X-Robots-Tag:noindex
X-PUBLISHED-TTL:PT1H
BEGIN:VTIMEZONE
TZID:America/New_York
BEGIN:DAYLIGHT
TZOFFSETFROM:-0500
TZOFFSETTO:-0400
TZNAME:EDT
DTSTART:20190310T070000
END:DAYLIGHT
BEGIN:STANDARD
TZOFFSETFROM:-0400
TZOFFSETTO:-0500
TZNAME:EST
DTSTART:20191103T060000
END:STANDARD
BEGIN:DAYLIGHT
TZOFFSETFROM:-0500
TZOFFSETTO:-0400
TZNAME:EDT
DTSTART:20200308T070000
END:DAYLIGHT
BEGIN:STANDARD
TZOFFSETFROM:-0400
TZOFFSETTO:-0500
TZNAME:EST
DTSTART:20201101T060000
END:STANDARD
BEGIN:DAYLIGHT
TZOFFSETFROM:-0500
TZOFFSETTO:-0400
TZNAME:EDT
DTSTART:20210314T070000
END:DAYLIGHT
BEGIN:STANDARD
TZOFFSETFROM:-0400
TZOFFSETTO:-0500
TZNAME:EST
DTSTART:20211107T060000
END:STANDARD
END:VTIMEZONE
BEGIN:VEVENT
DTSTART;TZID=America/New_York:20200402T190000
DTEND;TZID=America/New_York:20200402T210000
DTSTAMP:20260420T105420
CREATED:20200310T185318Z
LAST-MODIFIED:20200930T173416Z
UID:1374-1585854000-1585861200@jewish-south.charleston.edu
SUMMARY:Pursuing Justice: Fighting Hate with the Law
DESCRIPTION:The Hon. Michael Signer is a public scholar\, executive\, and practicing attorney. Author of three books\, most recently Cry Havoc: Charlottesville and American Democracy Under Siege (March 2020)\, Signer holds a PhD in political science from the University of California\, Berkeley\, a JD from the University of Virginia School of Law\, and a BA in politics from Princeton University. \n  \n  \n  \n  \nAmy Spitalnick is the Executive Director of Integrity First for America\, a nonpartisan nonprofit organization dedicated to holding those accountable who threaten longstanding principles of our democracy\, including our country’s commitment to civil rights and equal justice. IFA is the organization supporting Sines v. Kessler\, the lawsuit filed by a coalition of Charlottesville community members against the neo-Nazis and white supremacists responsible for the violence. \nSponsored by the Pearlstine/Lipov Center for Southern Jewish Culture
URL:https://jewish-south.charleston.edu/event/pursuing-justice-fighting-hate-with-the-law/
LOCATION:SC\, United States
ATTACH;FMTTYPE=image/jpeg:https://jewish-south.charleston.edu/wp-content/uploads/2020/03/Cville-photo-by-Ryan-M.-Kelly-The-Daily-Progress_Smaller.jpg
END:VEVENT
END:VCALENDAR