BEGIN:VCALENDAR
VERSION:2.0
PRODID:-//Center for Southern Jewish Culture - ECPv6.15.20//NONSGML v1.0//EN
CALSCALE:GREGORIAN
METHOD:PUBLISH
X-ORIGINAL-URL:https://jewish-south.charleston.edu
X-WR-CALDESC:Events for Center for Southern Jewish Culture
REFRESH-INTERVAL;VALUE=DURATION:PT1H
X-Robots-Tag:noindex
X-PUBLISHED-TTL:PT1H
BEGIN:VTIMEZONE
TZID:America/New_York
BEGIN:DAYLIGHT
TZOFFSETFROM:-0500
TZOFFSETTO:-0400
TZNAME:EDT
DTSTART:20180311T070000
END:DAYLIGHT
BEGIN:STANDARD
TZOFFSETFROM:-0400
TZOFFSETTO:-0500
TZNAME:EST
DTSTART:20181104T060000
END:STANDARD
BEGIN:DAYLIGHT
TZOFFSETFROM:-0500
TZOFFSETTO:-0400
TZNAME:EDT
DTSTART:20190310T070000
END:DAYLIGHT
BEGIN:STANDARD
TZOFFSETFROM:-0400
TZOFFSETTO:-0500
TZNAME:EST
DTSTART:20191103T060000
END:STANDARD
BEGIN:DAYLIGHT
TZOFFSETFROM:-0500
TZOFFSETTO:-0400
TZNAME:EDT
DTSTART:20200308T070000
END:DAYLIGHT
BEGIN:STANDARD
TZOFFSETFROM:-0400
TZOFFSETTO:-0500
TZNAME:EST
DTSTART:20201101T060000
END:STANDARD
END:VTIMEZONE
BEGIN:VEVENT
DTSTART;VALUE=DATE:20190304
DTEND;VALUE=DATE:20190305
DTSTAMP:20260423T185426
CREATED:20190408T182656Z
LAST-MODIFIED:20190408T182656Z
UID:1289-1551657600-1551743999@jewish-south.charleston.edu
SUMMARY:“A Class of Citizens”: Jews and the Civil War
DESCRIPTION:Part 2 of a mini-course offering an overview of the history of Jews in the southern United States from colonial times until the present. We will explore some of the key events of southern Jewish history\, seeking to understand how Jews have confounded\, complicated\, and conformed to the region’s “peculiar” norms and categories. Presented by Dr. Shari Rabin\, director of the Pearlstine/Lipov Center for Southern Jewish Culture. Free and open to the public.
URL:https://jewish-south.charleston.edu/event/a-class-of-citizens-jews-and-the-civil-war/
LOCATION:Arnold Hall\, 96 Wentworth Street\, Charleston\, SC\, 29424\, United States
ATTACH;FMTTYPE=image/jpeg:https://jewish-south.charleston.edu/wp-content/uploads/2019/03/shari-rabin.jpg
END:VEVENT
BEGIN:VEVENT
DTSTART;VALUE=DATE:20190311
DTEND;VALUE=DATE:20190312
DTSTAMP:20260423T185426
CREATED:20190408T182515Z
LAST-MODIFIED:20210326T191417Z
UID:1285-1552262400-1552348799@jewish-south.charleston.edu
SUMMARY:“The Quiet Voices”: Jews and the Civil Rights Movement
DESCRIPTION:Part 3 of a mini-course offering an overview of the history of Jews in the southern United States from colonial times until the present. We will explore some of the key events of southern Jewish history\, seeking to understand how Jews have confounded\, complicated\, and conformed to the region’s “peculiar” norms and categories. Presented by Dr. Shari Rabin\, director of the Pearlstine/Lipov Center for Southern Jewish Culture. Free and open to the public. \n  \n  \n 
URL:https://jewish-south.charleston.edu/event/the-quiet-voices-jews-and-the-civil-rights-movement/
LOCATION:Arnold Hall\, 96 Wentworth Street\, Charleston\, SC\, 29424\, United States
ATTACH;FMTTYPE=image/jpeg:https://jewish-south.charleston.edu/wp-content/uploads/2019/03/shari-rabin.jpg
END:VEVENT
BEGIN:VEVENT
DTSTART;TZID=America/New_York:20190331T080000
DTEND;TZID=America/New_York:20190331T170000
DTSTAMP:20260423T185426
CREATED:20190320T175101Z
LAST-MODIFIED:20200930T173352Z
UID:1177-1554019200-1554051600@jewish-south.charleston.edu
SUMMARY:American Jewish Women’s History: From Colonial Times to Today
DESCRIPTION:In this groundbreaking history\, Pamela Nadell asks what does it mean to be a Jewish woman in America? Weaving together stories from the colonial era’s matriarch Grace Nathan and her great-granddaughter poet Emma Lazarus to union organizer Bessie Hillman and the great justice Ruth Bader Ginsburg\, Nadell shows two threads binding the nation’s Jewish women: a strong sense of self and a resolute commitment to making the world a better place. Informed by the shared values of America’s founding and Jewish identity\, America’s Jewish women –the well-known and the scores of activists\, workers\, wives\, and mothers whose names linger on among their communities and families –left deep footprints in the history of the nation they call home. Free and open to the public. \n\n\n\n\nProfessor Pamela Nadell holds the Patrick Clendenen Chair in Women’s and Gender History at American University where she was received the Scholar/Teacher of the Year award. Her books include Women Who Would Be Rabbis: A History of Women’s Ordination\, 1889-1985\, which was a finalist for a National Jewish Book Award. A past president of the Association for Jewish Studies and a recipient of the American Jewish Historical Society’s Lee Max Friedman Award for distinguished service to the profession\, her consulting work for museums includes the National Museum of American Jewish History and the Library of Congress.
URL:https://jewish-south.charleston.edu/event/american-jewish-womens-history-from-colonial-times-to-today/
LOCATION:Arnold Hall\, 96 Wentworth Street\, Charleston\, SC\, 29424\, United States
ATTACH;FMTTYPE=image/jpeg:https://jewish-south.charleston.edu/wp-content/uploads/2019/03/S0L4b-0C.jpeg
END:VEVENT
END:VCALENDAR